BEGIN:VCALENDAR
VERSION:2.0
PRODID:spatie/icalendar-generator
DESCRIPTION:Events from Convenient CPR
X-WR-CALDESC:Events from Convenient CPR
REFRESH-INTERVAL;VALUE=DURATION:PT1440M
X-PUBLISHED-TTL:PT1440M
BEGIN:VTIMEZONE
TZID:Etc/GMT+0
BEGIN:STANDARD
DTSTART:20250626T170000Z
TZOFFSETFROM:+0000
TZOFFSETTO:+0000
END:STANDARD
END:VTIMEZONE
BEGIN:VTIMEZONE
TZID:UTC
BEGIN:STANDARD
DTSTART:20250725T103501Z
TZOFFSETFROM:+0000
TZOFFSETTO:+0000
END:STANDARD
END:VTIMEZONE
BEGIN:VEVENT
UID:92-66
DTSTAMP:20260421T103501Z
SUMMARY:FA / CPR / AED
LOCATION:Convenient CPR 6130 E Central Ave  Wichita Kansas 67208
ORGANIZER;CN=Convenient CPR:MAILTO:info@cprkansas.com
DTSTART;TZID=Etc/GMT+0:20260323T170000
DTEND;TZID=Etc/GMT+0:20260323T210000
X-ALT-DESC;FMTTYPE=TEXT/HTML:This is a combined course of both topics cover
 ed above. Heartsaver First Aid and CPR Class is approximately 4 – 6 hour
 s long &amp;nbsp\; Event Fees Course $ 70.00 Book $ 15.00 [wpforms id=\"1427\"
 ]
CATEGORIES:FA / CPR / AED,  General
URL;VALUE=URI:https://cprkansas.com/mc-events/fa-cpr-aed-8/
METHOD:PUBLISH
END:VEVENT
END:VCALENDAR